BEGIN:VCALENDAR
VERSION:2.0
PRODID:spatie/icalendar-generator
DESCRIPTION:Events from Carolina Audio Society
X-WR-CALDESC:Events from Carolina Audio Society
REFRESH-INTERVAL;VALUE=DURATION:PT1440M
X-PUBLISHED-TTL:PT1440M
BEGIN:VTIMEZONE
TZID:America/New_York
BEGIN:STANDARD
DTSTART:20201101T020000Z
TZOFFSETFROM:-0400
TZOFFSETTO:-0500
END:STANDARD
BEGIN:DAYLIGHT
DTSTART:20210314T020000Z
TZOFFSETFROM:-0500
TZOFFSETTO:-0400
END:DAYLIGHT
BEGIN:STANDARD
DTSTART:20211107T020000Z
TZOFFSETFROM:-0400
TZOFFSETTO:-0500
END:STANDARD
END:VTIMEZONE
BEGIN:VTIMEZONE
TZID:UTC
BEGIN:STANDARD
DTSTART:20250727T150545Z
TZOFFSETFROM:+0000
TZOFFSETTO:+0000
END:STANDARD
END:VTIMEZONE
BEGIN:VEVENT
UID:14-12
DTSTAMP:20260423T150545Z
SUMMARY:Charlotte Chapter Listening Session
LOCATION:
ORGANIZER;CN=Paul Wilson:MAILTO:pwfleek@icloud.com
DTSTART;TZID=America/New_York:20210717T130000
DTEND;TZID=America/New_York:20210717T150000
X-ALT-DESC;FMTTYPE=TEXT/HTML:
CATEGORIES:Charlotte
URL;VALUE=URI:https://carolinaaudiosociety.com/mc-events/charlotte-chapter-
 listening-session-2/
METHOD:PUBLISH
END:VEVENT
END:VCALENDAR