BEGIN:VCALENDAR
VERSION:2.0
PRODID:spatie/icalendar-generator
DESCRIPTION:Events from Carolina Audio Society
X-WR-CALDESC:Events from Carolina Audio Society
REFRESH-INTERVAL;VALUE=DURATION:PT1440M
X-PUBLISHED-TTL:PT1440M
BEGIN:VTIMEZONE
TZID:America/New_York
BEGIN:STANDARD
DTSTART:20211107T020000Z
TZOFFSETFROM:-0400
TZOFFSETTO:-0500
END:STANDARD
BEGIN:DAYLIGHT
DTSTART:20220313T020000Z
TZOFFSETFROM:-0500
TZOFFSETTO:-0400
END:DAYLIGHT
BEGIN:STANDARD
DTSTART:20221106T020000Z
TZOFFSETFROM:-0400
TZOFFSETTO:-0500
END:STANDARD
END:VTIMEZONE
BEGIN:VTIMEZONE
TZID:UTC
BEGIN:STANDARD
DTSTART:20250727T150422Z
TZOFFSETFROM:+0000
TZOFFSETTO:+0000
END:STANDARD
END:VTIMEZONE
BEGIN:VEVENT
UID:16-14
DTSTAMP:20260423T150422Z
SUMMARY:Listening Session Charlotte
LOCATION:
ORGANIZER;CN=Paul Wilson:MAILTO:pwfleek@icloud.com
DTSTART;TZID=America/New_York;VALUE=DATE:20220716
DTEND;TZID=America/New_York;VALUE=DATE:20220717
X-ALT-DESC;FMTTYPE=TEXT/HTML:
CATEGORIES:Charlotte
URL;VALUE=URI:https://carolinaaudiosociety.com/mc-events/listening-session-
 charlotte/
METHOD:PUBLISH
END:VEVENT
END:VCALENDAR